BEGIN:VCALENDAR
VERSION:2.0
PRODID:-//eventon.com NONSGML v1.0//EN
CALSCALE:GREGORIAN
METHOD:PUBLISH
BEGIN:VEVENT
UID:69e988f548811
DTSTAMP:20260423T025029Z
DTSTART:20191005T130000Z
DTEND:20191005T143000Z
LOCATION:ISAC Church Heidelberger Str. 16\,  64285 Darmstadt
SUMMARY:Youth's Program
DESCRIPTION:Youth's Program\nhttps://rm-isac.de/events/youth-program/
URL:https://rm-isac.de/events/youth-program/
END:VEVENT
END:VCALENDAR