BEGIN:VCALENDAR
VERSION:2.0
PRODID:-//eventon.com NONSGML v1.0//EN
CALSCALE:GREGORIAN
METHOD:PUBLISH
BEGIN:VEVENT
UID:69e8a9064f723
DTSTAMP:20260422T105502Z
DTSTART:20211225T100000Z
DTEND:20211225T110000Z
LOCATION:ISAC Church Heidelberger Str. 16\,  64285 Darmstadt
SUMMARY:A Sweet-Smelling Aroma
DESCRIPTION:Bible Verse: Hebrews 4:14-16 Bulletin Brochure Join Zoom Meetin
 g https://zoom.us/j/877830222 Meeting ID: 877 830 222 PIN: Please contact s
 ome from our elders or pastor to obtain it Contacts details are posted on o
 ur &#8220;Contact us&#8221; page\nhttps://rm-isac.de/events/a-sweet-smellin
 g-aroma/var/event_access
URL:https://rm-isac.de/events/a-sweet-smelling-aroma/var/event_access
END:VEVENT
END:VCALENDAR