BEGIN:VCALENDAR
VERSION:2.0
PRODID:-//eventon.com NONSGML v1.0//EN
CALSCALE:GREGORIAN
METHOD:PUBLISH
BEGIN:VEVENT
UID:69e98c6538e0d
DTSTAMP:20260423T030509Z
DTSTART:20211113T100000Z
DTEND:20211113T110000Z
LOCATION:ISAC Church Heidelberger Str. 16\,  64285 Darmstadt
SUMMARY:From Original to Replacement and Back
DESCRIPTION:Bible Verse: Joshua 5:10-12 Bulletin Brochure Join Zoom Meeting
  https://zoom.us/j/877830222 Meeting ID: 877 830 222 PIN: Please contact so
 me from our elders or pastor to obtain it Contacts details are posted on ou
 r &#8220;Contact us&#8221; page\nhttps://rm-isac.de/events/sermon-32/
URL:https://rm-isac.de/events/sermon-32/
END:VEVENT
END:VCALENDAR