BEGIN:VCALENDAR
VERSION:2.0
PRODID:-//eventon.com NONSGML v1.0//EN
CALSCALE:GREGORIAN
METHOD:PUBLISH
BEGIN:VEVENT
UID:69e4dae9f1687
DTSTAMP:20260419T133849Z
DTSTART:20200627T130000Z
DTEND:20200627T143000Z
LOCATION:Online Zoom Meeting
SUMMARY:Bible Study
DESCRIPTION:Join Zoom Meeting https://zoom.us/j/877830222 Meeting ID: 877 8
 30 222\nhttps://rm-isac.de/events/bible-study-17/
URL:https://rm-isac.de/events/bible-study-17/
END:VEVENT
END:VCALENDAR