BEGIN:VCALENDAR
VERSION:2.0
PRODID:-//eventon.com NONSGML v1.0//EN
CALSCALE:GREGORIAN
METHOD:PUBLISH
BEGIN:VEVENT
UID:69e8ada2d54b9
DTSTAMP:20260422T111442Z
DTSTART:20201202T170000Z
DTEND:20201202T180000Z
LOCATION:Online Zoom Meeting
SUMMARY:Youth Bible Study
DESCRIPTION:Join Zoom Meeting https://zoom.us/j/877830222 Meeting ID: 877 8
 30 222 PIN: Please contact some from our elders or pastor to obtain it Cont
 acts details are posted on our &#8220;Contact us&#8221; page\nhttps://rm-is
 ac.de/events/youth-bible-study/var/ri-35.l-L1
URL:https://rm-isac.de/events/youth-bible-study/var/ri-35.l-L1
END:VEVENT
END:VCALENDAR