BEGIN:VCALENDAR
VERSION:2.0
PRODID:-//eventon.com NONSGML v1.0//EN
CALSCALE:GREGORIAN
METHOD:PUBLISH
BEGIN:VEVENT
UID:69ed17fca2d18
DTSTAMP:20260425T193732Z
DTSTART:20200314T104500Z
DTEND:20200314T114500Z
LOCATION:ISAC Church Heidelberger Str. 16\,  64285 Darmstadt
SUMMARY:Sermon
DESCRIPTION:Sermon\nhttps://rm-isac.de/events/arf-6/
URL:https://rm-isac.de/events/arf-6/
END:VEVENT
END:VCALENDAR